BEGIN:VCALENDAR
VERSION:2.0
PRODID:itakvim.com
METHOD:PUBLISH
UID:5fc5c93c-f684-4048-5249-08de9f183112
X-WR-CALNAME:Van Doğu Anadolu Kariyer Fuarı
X-ITAKVIM-LANGUAGE:tr
X-ITAKVIM-REGION:TR
CALSCALE:GREGORIAN
BEGIN:VEVENT
UID:5fc5c93c-f684-4048-5249-08de9f183112
DTSTAMP:20260420T200816Z
DTSTART:20260505T060000Z
DTEND:20260506T150000Z
TRANSP:TRANSPARENT
STATUS:CONFIRMED
SUMMARY:Van Doğu Anadolu Kariyer Fuarı
DESCRIPTION:Ajans Asya Fuarcılık Organizasyon Sanayi Ticaret Ltd.Şti. tarafından düzenlenen eğitim kariyer ,diğer hizmet konulu fuarda görüşmek üzere: 

Web:www.vanfuar.com
E-Posta: vanasyafuar@gmail.com
LOCATION:Van Fuar Ve Kongre Merkezi
END:VEVENT
END:VCALENDAR
