BEGIN:VCALENDAR
VERSION:2.0
PRODID:itakvim.com
METHOD:PUBLISH
UID:60782888-ddd7-4592-dd61-08de9c03c470
X-WR-CALNAME:MISIRLI.COM.TR FATİH KARAGÜMRÜK - NATURA DÜNYASI GENÇLERBİRLİĞİ
X-ITAKVIM-LANGUAGE:tr
X-ITAKVIM-REGION:TR
CALSCALE:GREGORIAN
BEGIN:VEVENT
UID:60782888-ddd7-4592-dd61-08de9c03c470
DTSTAMP:20260416T220746Z
DTSTART:20260502T210000Z
DTEND:20260502T210000Z
TRANSP:TRANSPARENT
STATUS:CONFIRMED
SUMMARY:MISIRLI.COM.TR FATİH KARAGÜMRÜK - NATURA DÜNYASI GENÇLERBİRLİĞİ
LOCATION:ATATÜRK OLİMPİYAT
END:VEVENT
END:VCALENDAR
