BEGIN:VCALENDAR
VERSION:2.0
PRODID:itakvim.com
METHOD:PUBLISH
UID:6112548c-4025-491a-d615-08de9fecec0c
X-WR-CALNAME:e-YDS Elektronik Yabancı Dil Sınavı (e-YDS 2026/12 İngilizce) *** Başvuru Başlangıç
X-ITAKVIM-LANGUAGE:tr
X-ITAKVIM-REGION:TR
CALSCALE:GREGORIAN
BEGIN:VEVENT
UID:6112548c-4025-491a-d615-08de9fecec0c
DTSTAMP:20260421T212824Z
DTSTART:20261201T210000Z
DTEND:20261201T210000Z
TRANSP:TRANSPARENT
STATUS:CONFIRMED
SUMMARY:e-YDS Elektronik Yabancı Dil Sınavı (e-YDS 2026/12 İngilizce) *** Başvuru Başlangıç
END:VEVENT
END:VCALENDAR
