BEGIN:VCALENDAR
VERSION:2.0
PRODID:itakvim.com
METHOD:PUBLISH
UID:61eb5323-12fe-4f7b-58ef-08de9f8ee600
X-WR-CALNAME:Norhtexpo Sinop Yapı İnşaat Prefabrik Ev Gayrimenkul Mobilya Ev Gereçleri Yaşam Tekstil Fuarı
X-ITAKVIM-LANGUAGE:tr
X-ITAKVIM-REGION:TR
CALSCALE:GREGORIAN
BEGIN:VEVENT
UID:61eb5323-12fe-4f7b-58ef-08de9f8ee600
DTSTAMP:20260421T101546Z
DTSTART:20260615T060000Z
DTEND:20260621T150000Z
TRANSP:TRANSPARENT
STATUS:CONFIRMED
SUMMARY:Norhtexpo Sinop Yapı İnşaat Prefabrik Ev Gayrimenkul Mobilya Ev Gereçleri Yaşam Tekstil Fuarı
DESCRIPTION:Proaktif Fuarcılık Limited Şirketi tarafından düzenlenen yapı inşaat mobilya ev gereçleri giyim tekstil gayrimenkul doğalürünler konulu fuarda görüşmek üzere: 

Web:www.proaktiffuarcilik.com
E-Posta: info@proaktiffuarcilik.com
LOCATION:Örsan Eski Tekstil Fabrikası
END:VEVENT
END:VCALENDAR
