BEGIN:VCALENDAR
VERSION:2.0
PRODID:itakvim.com
METHOD:PUBLISH
UID:63940a76-d1cb-49c9-5285-08de9f183112
X-WR-CALNAME:Busworld Türkiye 2026
X-ITAKVIM-LANGUAGE:tr
X-ITAKVIM-REGION:TR
CALSCALE:GREGORIAN
BEGIN:VEVENT
UID:63940a76-d1cb-49c9-5285-08de9f183112
DTSTAMP:20260420T200816Z
DTSTART:20260617T060000Z
DTEND:20260619T150000Z
TRANSP:TRANSPARENT
STATUS:CONFIRMED
SUMMARY:Busworld Türkiye 2026
DESCRIPTION:Hkf Fuarcılık Anonim Şirketi tarafından düzenlenen otobüs endüstrisi ve yan sanayi konulu fuarda görüşmek üzere: 

Web:www.hkftradefairs.com
E-Posta: info@hkf-fairs.com
LOCATION:İstanbul Fuar Merkezi
END:VEVENT
END:VCALENDAR
