BEGIN:VCALENDAR
VERSION:2.0
PRODID:itakvim.com
METHOD:PUBLISH
UID:66db0303-729c-4393-52a6-08de9f183112
X-WR-CALNAME:Pu Expo İstanbul 2026
X-ITAKVIM-LANGUAGE:tr
X-ITAKVIM-REGION:TR
CALSCALE:GREGORIAN
BEGIN:VEVENT
UID:66db0303-729c-4393-52a6-08de9f183112
DTSTAMP:20260420T200816Z
DTSTART:20261111T060000Z
DTEND:20261113T150000Z
TRANSP:TRANSPARENT
STATUS:CONFIRMED
SUMMARY:Pu Expo İstanbul 2026
DESCRIPTION:Cng Fuarcılık Ve Tanıtım Hizmetleri Anonim Şirketi tarafından düzenlenen poliüretan endüstrisi, poliüretan hammaddeleri, sistem evleri, poliürea ve proses teknolojileri konulu fuarda görüşmek üzere: 

Web:puexpoistanbul.com
E-Posta: cengizyaman@cngexpo.com
LOCATION:İstanbul Fuar Merkezi
END:VEVENT
END:VCALENDAR
