BEGIN:VCALENDAR
VERSION:2.0
PRODID:itakvim.com
METHOD:PUBLISH
UID:688cbcb5-3b06-46f2-528a-08de9f183112
X-WR-CALNAME:Ifco İstanbul Fashion Connection Hazır Giyim Ve Moda Fuarı
X-ITAKVIM-LANGUAGE:tr
X-ITAKVIM-REGION:TR
CALSCALE:GREGORIAN
BEGIN:VEVENT
UID:688cbcb5-3b06-46f2-528a-08de9f183112
DTSTAMP:20260420T200816Z
DTSTART:20260819T060000Z
DTEND:20260821T150000Z
TRANSP:TRANSPARENT
STATUS:CONFIRMED
SUMMARY:Ifco İstanbul Fashion Connection Hazır Giyim Ve Moda Fuarı
DESCRIPTION:İtkib Fuarcılık Anonim Şirketi tarafından düzenlenen hazır giyim, moda, konfeksiyon, deri ve linexpo İç giyim konulu fuarda görüşmek üzere: 

Web:www.ifco.com.tr
E-Posta: ifas@itkib.org.tr
LOCATION:İstanbul Fuar Merkezi
END:VEVENT
END:VCALENDAR
