BEGIN:VCALENDAR
VERSION:2.0
PRODID:itakvim.com
METHOD:PUBLISH
UID:68af3765-89cb-4976-4ec7-08de9f183112
X-WR-CALNAME:YKS Yükseköğretim Kurumları Sınavı 2026-YKS 2. Oturum (AYT) Sınav
X-ITAKVIM-LANGUAGE:tr
X-ITAKVIM-REGION:TR
CALSCALE:GREGORIAN
BEGIN:VEVENT
UID:68af3765-89cb-4976-4ec7-08de9f183112
DTSTAMP:20260420T200538Z
DTSTART:20260621T071500Z
DTEND:20260621T071500Z
TRANSP:TRANSPARENT
STATUS:CONFIRMED
SUMMARY:YKS Yükseköğretim Kurumları Sınavı 2026-YKS 2. Oturum (AYT) Sınav
END:VEVENT
END:VCALENDAR
