BEGIN:VCALENDAR
VERSION:2.0
PRODID:itakvim.com
METHOD:PUBLISH
UID:68f9480e-0d4e-4c14-52b5-08de9f183112
X-WR-CALNAME:İzmir Üniversite Tercih Fuarı
X-ITAKVIM-LANGUAGE:tr
X-ITAKVIM-REGION:TR
CALSCALE:GREGORIAN
BEGIN:VEVENT
UID:68f9480e-0d4e-4c14-52b5-08de9f183112
DTSTAMP:20260420T200816Z
DTSTART:20260723T060000Z
DTEND:20260724T150000Z
TRANSP:TRANSPARENT
STATUS:CONFIRMED
SUMMARY:İzmir Üniversite Tercih Fuarı
DESCRIPTION:Tercih Fuarcılık Limited Şirketi tarafından düzenlenen eğitim , üniversite tanıtımı, üniversite tercih konulu fuarda görüşmek üzere: 

Web:www.tercihfuari.com
E-Posta: info@artitercih.com
LOCATION:Ege Palas Business Hotel
END:VEVENT
END:VCALENDAR
