BEGIN:VCALENDAR
VERSION:2.0
PRODID:itakvim.com
METHOD:PUBLISH
UID:694e4be8-a87a-4aea-525f-08de9f183112
X-WR-CALNAME:Sigorta Sektörü İş Birliği Fuarı Ve Kongresi
X-ITAKVIM-LANGUAGE:tr
X-ITAKVIM-REGION:TR
CALSCALE:GREGORIAN
BEGIN:VEVENT
UID:694e4be8-a87a-4aea-525f-08de9f183112
DTSTAMP:20260420T200816Z
DTSTART:20260617T060000Z
DTEND:20260619T150000Z
TRANSP:TRANSPARENT
STATUS:CONFIRMED
SUMMARY:Sigorta Sektörü İş Birliği Fuarı Ve Kongresi
DESCRIPTION:Arass Organizasyon İnşaat Turizm Ticaret Anonim Şirketi Ankara Şubesi tarafından düzenlenen sigorta sektöründe İşbirliğini geliştirme konulu fuarda görüşmek üzere: 

Web:sigortacilikfuar.com
E-Posta: accounting@arassgp.com
LOCATION:Wow Istanbul Hotels And Conventıon Center
END:VEVENT
END:VCALENDAR
