BEGIN:VCALENDAR
VERSION:2.0
PRODID:itakvim.com
METHOD:PUBLISH
UID:6a3153ab-90d1-4454-4f0e-08de9f183112
X-WR-CALNAME:EKPSS Engelli Kamu Personeli Seçme Sınavı 2026-EKPSS Sonuç
X-ITAKVIM-LANGUAGE:tr
X-ITAKVIM-REGION:TR
CALSCALE:GREGORIAN
BEGIN:VEVENT
UID:6a3153ab-90d1-4454-4f0e-08de9f183112
DTSTAMP:20260420T200538Z
DTSTART:20260513T210000Z
DTEND:20260513T210000Z
TRANSP:TRANSPARENT
STATUS:CONFIRMED
SUMMARY:EKPSS Engelli Kamu Personeli Seçme Sınavı 2026-EKPSS Sonuç
END:VEVENT
END:VCALENDAR
