BEGIN:VCALENDAR
VERSION:2.0
PRODID:itakvim.com
METHOD:PUBLISH
UID:6a6a1035-f0ca-4f8b-51a0-08de9f183112
X-WR-CALNAME:İngilizce Yeterlilik Sınavı Sonuçlarının Öğrenci İşleri Daire Başkanlığına Bildirilmesi
X-ITAKVIM-LANGUAGE:tr
X-ITAKVIM-REGION:TR
CALSCALE:GREGORIAN
BEGIN:VEVENT
UID:6a6a1035-f0ca-4f8b-51a0-08de9f183112
DTSTAMP:20260420T200724Z
DTSTART:20260810T210000Z
DTEND:20260810T210000Z
TRANSP:TRANSPARENT
STATUS:CONFIRMED
SUMMARY:İngilizce Yeterlilik Sınavı Sonuçlarının Öğrenci İşleri Daire Başkanlığına Bildirilmesi
END:VEVENT
END:VCALENDAR
