BEGIN:VCALENDAR
VERSION:2.0
PRODID:itakvim.com
METHOD:PUBLISH
UID:6b959de4-0a19-49ea-5175-08de9f183112
X-WR-CALNAME:Bahar Yarıyılı Sonu Sınavına Girebilme Koşulunu Yerine Getiremeyen Öğrencilerin Listesinin İlanı
X-ITAKVIM-LANGUAGE:tr
X-ITAKVIM-REGION:TR
CALSCALE:GREGORIAN
BEGIN:VEVENT
UID:6b959de4-0a19-49ea-5175-08de9f183112
DTSTAMP:20260420T200724Z
DTSTART:20260517T210000Z
DTEND:20260521T210000Z
TRANSP:TRANSPARENT
STATUS:CONFIRMED
SUMMARY:Bahar Yarıyılı Sonu Sınavına Girebilme Koşulunu Yerine Getiremeyen Öğrencilerin Listesinin İlanı
END:VEVENT
END:VCALENDAR
