BEGIN:VCALENDAR
VERSION:2.0
PRODID:itakvim.com
METHOD:PUBLISH
UID:6d4aace2-d9a1-4aaf-4f14-08de9f183112
X-WR-CALNAME:ÖZYES YKS Kapsamında Spor Bilimleri İçin Özel Yetenek Sınavı 2026-ÖZYES Başvuru Başlangıç
X-ITAKVIM-LANGUAGE:tr
X-ITAKVIM-REGION:TR
CALSCALE:GREGORIAN
BEGIN:VEVENT
UID:6d4aace2-d9a1-4aaf-4f14-08de9f183112
DTSTAMP:20260420T200538Z
DTSTART:20260722T210000Z
DTEND:20260722T210000Z
TRANSP:TRANSPARENT
STATUS:CONFIRMED
SUMMARY:ÖZYES YKS Kapsamında Spor Bilimleri İçin Özel Yetenek Sınavı 2026-ÖZYES Başvuru Başlangıç
END:VEVENT
END:VCALENDAR
