BEGIN:VCALENDAR
VERSION:2.0
PRODID:itakvim.com
METHOD:PUBLISH
UID:6dae8e1f-c7a4-4917-50c1-08de9f183112
X-WR-CALNAME:ITB China
X-ITAKVIM-LANGUAGE:tr
X-ITAKVIM-REGION:TR
CALSCALE:GREGORIAN
BEGIN:VEVENT
UID:6dae8e1f-c7a4-4917-50c1-08de9f183112
DTSTAMP:20260420T200713Z
DTSTART:20260526T060000Z
DTEND:20260528T150000Z
TRANSP:TRANSPARENT
STATUS:CONFIRMED
SUMMARY:ITB China
LOCATION:Şangay, Çin Halk Cumhuriyeti
END:VEVENT
END:VCALENDAR
