BEGIN:VCALENDAR
VERSION:2.0
PRODID:itakvim.com
METHOD:PUBLISH
UID:6f788405-51a3-413a-d2e4-08de9f271cd7
X-WR-CALNAME:Mart 2026 Dönemi Dijital Hizmet Vergisi Beyan ve Ödemesi Son Gün
X-ITAKVIM-LANGUAGE:tr
X-ITAKVIM-REGION:TR
CALSCALE:GREGORIAN
BEGIN:VEVENT
UID:6f788405-51a3-413a-d2e4-08de9f271cd7
DTSTAMP:20260420T215235Z
DTSTART:20260430T140000Z
DTEND:20260430T140000Z
TRANSP:TRANSPARENT
STATUS:CONFIRMED
SUMMARY:Mart 2026 Dönemi Dijital Hizmet Vergisi Beyan ve Ödemesi Son Gün
DESCRIPTION:Mart 2026 Dönemine Ait Dijital Hizmet Vergisinin Beyanı ve Ödemesi
END:VEVENT
END:VCALENDAR
