BEGIN:VCALENDAR
VERSION:2.0
PRODID:itakvim.com
METHOD:PUBLISH
UID:6fc661f4-c855-444b-51cd-08de9f183112
X-WR-CALNAME:Yaz Öğretimi Sınavları
X-ITAKVIM-LANGUAGE:tr
X-ITAKVIM-REGION:TR
CALSCALE:GREGORIAN
BEGIN:VEVENT
UID:6fc661f4-c855-444b-51cd-08de9f183112
DTSTAMP:20260420T200724Z
DTSTART:20260807T210000Z
DTEND:20260814T210000Z
TRANSP:TRANSPARENT
STATUS:CONFIRMED
SUMMARY:Yaz Öğretimi Sınavları
END:VEVENT
END:VCALENDAR
