BEGIN:VCALENDAR
VERSION:2.0
PRODID:itakvim.com
METHOD:PUBLISH
UID:6fe14ef2-9328-4ca9-4f12-08de9f183112
X-WR-CALNAME:EKPSS Engelli Kamu Personeli Seçme Sınavı 2026-EKPSS/KURA Geç Başvuru Bitiş
X-ITAKVIM-LANGUAGE:tr
X-ITAKVIM-REGION:TR
CALSCALE:GREGORIAN
BEGIN:VEVENT
UID:6fe14ef2-9328-4ca9-4f12-08de9f183112
DTSTAMP:20260420T200538Z
DTSTART:20260604T205900Z
DTEND:20260604T205900Z
TRANSP:TRANSPARENT
STATUS:CONFIRMED
SUMMARY:EKPSS Engelli Kamu Personeli Seçme Sınavı 2026-EKPSS/KURA Geç Başvuru Bitiş
END:VEVENT
END:VCALENDAR
