BEGIN:VCALENDAR
VERSION:2.0
PRODID:itakvim.com
METHOD:PUBLISH
UID:708350a5-e05b-47a1-4ecd-08de9f183112
X-WR-CALNAME:YKS Yükseköğretim Kurumları Sınavı 2026-YKS 3. Oturum (YDT) Sınav
X-ITAKVIM-LANGUAGE:tr
X-ITAKVIM-REGION:TR
CALSCALE:GREGORIAN
BEGIN:VEVENT
UID:708350a5-e05b-47a1-4ecd-08de9f183112
DTSTAMP:20260420T200538Z
DTSTART:20260621T124500Z
DTEND:20260621T124500Z
TRANSP:TRANSPARENT
STATUS:CONFIRMED
SUMMARY:YKS Yükseköğretim Kurumları Sınavı 2026-YKS 3. Oturum (YDT) Sınav
END:VEVENT
END:VCALENDAR
