BEGIN:VCALENDAR
VERSION:2.0
PRODID:itakvim.com
METHOD:PUBLISH
UID:70dc1082-e9c8-4afc-cc60-08de9d98d356
X-WR-CALNAME:Gölge
X-ITAKVIM-LANGUAGE:tr
X-ITAKVIM-REGION:TR
CALSCALE:GREGORIAN
BEGIN:VEVENT
UID:70dc1082-e9c8-4afc-cc60-08de9d98d356
DTSTAMP:20260418T222122Z
DTSTART:20260424T170000Z
DTEND:20260424T170000Z
TRANSP:TRANSPARENT
STATUS:CONFIRMED
SUMMARY:Gölge
LOCATION:Müze Gazhane Prof. Dr. Sevda Şener Sahnesi
END:VEVENT
END:VCALENDAR
