BEGIN:VCALENDAR
VERSION:2.0
PRODID:itakvim.com
METHOD:PUBLISH
UID:71030246-94ab-4203-d29c-08de9f271cd7
X-WR-CALNAME:Ocak 2026 Dönemi Elektronik Defter Beratları Son Gün
X-ITAKVIM-LANGUAGE:tr
X-ITAKVIM-REGION:TR
CALSCALE:GREGORIAN
BEGIN:VEVENT
UID:71030246-94ab-4203-d29c-08de9f271cd7
DTSTAMP:20260420T215235Z
DTSTART:20260511T140000Z
DTEND:20260511T140000Z
TRANSP:TRANSPARENT
STATUS:CONFIRMED
SUMMARY:Ocak 2026 Dönemi Elektronik Defter Beratları Son Gün
DESCRIPTION:Aylık Yükleme Tercihinde Bulunmuş Gelir Vergisi Mükelleflerinin Ocak 2026 Dönemine Ait Elektronik Defter Beratlarının Yüklenmesi
END:VEVENT
END:VCALENDAR
