BEGIN:VCALENDAR
VERSION:2.0
PRODID:itakvim.com
METHOD:PUBLISH
UID:7184d2a9-6e6f-4f60-4fa9-08de9f183112
X-WR-CALNAME:STS Diş Hekimliği Diş Hekimliği Alanında Yurt Dışı Yükseköğretim Diploma Denkliği İçin Seviye Tespit Sınavı 2026-STS Diş Hekimliği 1.Dönem Sonuç
X-ITAKVIM-LANGUAGE:tr
X-ITAKVIM-REGION:TR
CALSCALE:GREGORIAN
BEGIN:VEVENT
UID:7184d2a9-6e6f-4f60-4fa9-08de9f183112
DTSTAMP:20260420T200538Z
DTSTART:20260521T210000Z
DTEND:20260521T210000Z
TRANSP:TRANSPARENT
STATUS:CONFIRMED
SUMMARY:STS Diş Hekimliği Diş Hekimliği Alanında Yurt Dışı Yükseköğretim Diploma Denkliği İçin Seviye Tespit Sınavı 2026-STS Diş Hekimliği 1.Dönem Sonuç
END:VEVENT
END:VCALENDAR
