BEGIN:VCALENDAR
VERSION:2.0
PRODID:itakvim.com
METHOD:PUBLISH
UID:72826a83-2b9f-44b7-4f2b-08de9f183112
X-WR-CALNAME:STS Tıp Tıp Doktorluğu Alanında Yurt Dışı Yükseköğretim Diploma Denkliği İçin Seviye Tespit Sınavı 2026-STS Tıp Doktorluğu 2. Dönem Sınav
X-ITAKVIM-LANGUAGE:tr
X-ITAKVIM-REGION:TR
CALSCALE:GREGORIAN
BEGIN:VEVENT
UID:72826a83-2b9f-44b7-4f2b-08de9f183112
DTSTAMP:20260420T200538Z
DTSTART:20260822T210000Z
DTEND:20260822T210000Z
TRANSP:TRANSPARENT
STATUS:CONFIRMED
SUMMARY:STS Tıp Tıp Doktorluğu Alanında Yurt Dışı Yükseköğretim Diploma Denkliği İçin Seviye Tespit Sınavı 2026-STS Tıp Doktorluğu 2. Dönem Sınav
END:VEVENT
END:VCALENDAR
