BEGIN:VCALENDAR
VERSION:2.0
PRODID:itakvim.com
METHOD:PUBLISH
UID:73852abb-5e26-4edd-5a64-08de9f8ee600
X-WR-CALNAME:Lıght+Intellıgent Buıldıng Istanbul
X-ITAKVIM-LANGUAGE:tr
X-ITAKVIM-REGION:TR
CALSCALE:GREGORIAN
BEGIN:VEVENT
UID:73852abb-5e26-4edd-5a64-08de9f8ee600
DTSTAMP:20260421T101545Z
DTSTART:20261126T060000Z
DTEND:20261128T150000Z
TRANSP:TRANSPARENT
STATUS:CONFIRMED
SUMMARY:Lıght+Intellıgent Buıldıng Istanbul
DESCRIPTION:Messe Frankfurt İstanbul Ulus. Fuarcılık Ltd. Şti. tarafından düzenlenen aydınlatma ve akıllı bina otomasyon teknolojileri fuarı konulu fuarda görüşmek üzere: 

Web:tr.messefrankfurt.com
E-Posta: info@turkey.messefrankfurt.com
LOCATION:İstanbul Kongre Merkezi
END:VEVENT
END:VCALENDAR
