BEGIN:VCALENDAR
VERSION:2.0
PRODID:itakvim.com
METHOD:PUBLISH
UID:747d1535-65b4-4718-5a5e-08de9f8ee600
X-WR-CALNAME:17. Aus Avrupa  Kongresi İstanbul 2026
X-ITAKVIM-LANGUAGE:tr
X-ITAKVIM-REGION:TR
CALSCALE:GREGORIAN
BEGIN:VEVENT
UID:747d1535-65b4-4718-5a5e-08de9f8ee600
DTSTAMP:20260421T101545Z
DTSTART:20260427T060000Z
DTEND:20260429T150000Z
TRANSP:TRANSPARENT
STATUS:CONFIRMED
SUMMARY:17. Aus Avrupa  Kongresi İstanbul 2026
DESCRIPTION:Sedef Fuar Ve Kongre Hiz. San. Ve Tic. A.Ş. tarafından düzenlenen akıllı ulaşım teknoloji ve sistem çözümleri konulu fuarda görüşmek üzere: 

Web:www.2026.itseuropeancongress.com
E-Posta: info@sedefgrup.com.tr
LOCATION:İstanbul Kongre Merkezi
END:VEVENT
END:VCALENDAR
