BEGIN:VCALENDAR
VERSION:2.0
PRODID:itakvim.com
METHOD:PUBLISH
UID:75612712-9694-4212-4f23-08de9f183112
X-WR-CALNAME:TR-YÖS Türkiye Yurt Dışından Öğrenci Kabul Sınavı 2026-TR-YÖS/2 Geç Başvuru Bitiş
X-ITAKVIM-LANGUAGE:tr
X-ITAKVIM-REGION:TR
CALSCALE:GREGORIAN
BEGIN:VEVENT
UID:75612712-9694-4212-4f23-08de9f183112
DTSTAMP:20260420T200538Z
DTSTART:20260811T205900Z
DTEND:20260811T205900Z
TRANSP:TRANSPARENT
STATUS:CONFIRMED
SUMMARY:TR-YÖS Türkiye Yurt Dışından Öğrenci Kabul Sınavı 2026-TR-YÖS/2 Geç Başvuru Bitiş
END:VEVENT
END:VCALENDAR
