BEGIN:VCALENDAR
VERSION:2.0
PRODID:itakvim.com
METHOD:PUBLISH
UID:763082e9-8f16-4418-5357-08de9f183112
X-WR-CALNAME:Sakarya 8. Tarım Hayvancılık Makineleri Teknolojileri Ve Yem Fuarı
X-ITAKVIM-LANGUAGE:tr
X-ITAKVIM-REGION:TR
CALSCALE:GREGORIAN
BEGIN:VEVENT
UID:763082e9-8f16-4418-5357-08de9f183112
DTSTAMP:20260420T200817Z
DTSTART:20261105T060000Z
DTEND:20261108T150000Z
TRANSP:TRANSPARENT
STATUS:CONFIRMED
SUMMARY:Sakarya 8. Tarım Hayvancılık Makineleri Teknolojileri Ve Yem Fuarı
DESCRIPTION:Gl Platform Fuar Hizmetleri Limited Şirketi tarafından düzenlenen canlı hayvan, hayvancılık, tarım makineleri, et, süt teknolojileri konulu fuarda görüşmek üzere: 

Web:www.glplatformfuar.com
E-Posta: info@glplatformfuar.com
LOCATION:Hendek Belediyesi Çok Amaçlı Kapalı Fuar Alanı
END:VEVENT
END:VCALENDAR
