BEGIN:VCALENDAR
VERSION:2.0
PRODID:itakvim.com
METHOD:PUBLISH
UID:76c6113c-be64-4e29-4fae-08de9f183112
X-WR-CALNAME:STS Diş Hekimliği Diş Hekimliği Alanında Yurt Dışı Yükseköğretim Diploma Denkliği İçin Seviye Tespit Sınavı 2026-STS Diş Hekimliği 2.Dönem Geç Başvuru Bitiş
X-ITAKVIM-LANGUAGE:tr
X-ITAKVIM-REGION:TR
CALSCALE:GREGORIAN
BEGIN:VEVENT
UID:76c6113c-be64-4e29-4fae-08de9f183112
DTSTAMP:20260420T200538Z
DTSTART:20261001T205900Z
DTEND:20261001T205900Z
TRANSP:TRANSPARENT
STATUS:CONFIRMED
SUMMARY:STS Diş Hekimliği Diş Hekimliği Alanında Yurt Dışı Yükseköğretim Diploma Denkliği İçin Seviye Tespit Sınavı 2026-STS Diş Hekimliği 2.Dönem Geç Başvuru Bitiş
END:VEVENT
END:VCALENDAR
