BEGIN:VCALENDAR
VERSION:2.0
PRODID:itakvim.com
METHOD:PUBLISH
UID:777f846f-1537-43d3-5273-08de9f183112
X-WR-CALNAME:Gönen 14.Tarım Hayvancılık Gıda Sanayi Ve Otomotiv Fuarı
X-ITAKVIM-LANGUAGE:tr
X-ITAKVIM-REGION:TR
CALSCALE:GREGORIAN
BEGIN:VEVENT
UID:777f846f-1537-43d3-5273-08de9f183112
DTSTAMP:20260420T200817Z
DTSTART:20261105T060000Z
DTEND:20261108T150000Z
TRANSP:TRANSPARENT
STATUS:CONFIRMED
SUMMARY:Gönen 14.Tarım Hayvancılık Gıda Sanayi Ve Otomotiv Fuarı
DESCRIPTION:Renkli Fuarcılık Ltd. Şti. tarafından düzenlenen tarım hayvancılık, tohum, meyvecilik, gıda,sulama teknolojileri, otomotiv ve sanayi konulu fuarda görüşmek üzere: 

Web:www.renklyfuar.com
E-Posta: info@renklyfuar.com
LOCATION:Gönen Kapalı Pazar Yeri Ve Fuar Alanı
END:VEVENT
END:VCALENDAR
