BEGIN:VCALENDAR
VERSION:2.0
PRODID:itakvim.com
METHOD:PUBLISH
UID:78ea7a6b-89e0-48db-4f84-08de9f183112
X-WR-CALNAME:BKUBTS Tarım ve Orman Bakanlığı Bitki Koruma Ürünleri Bayi ve Toptancılık Yazılı Sınavı 2026-BKUBTS Geç Başvuru Bitiş
X-ITAKVIM-LANGUAGE:tr
X-ITAKVIM-REGION:TR
CALSCALE:GREGORIAN
BEGIN:VEVENT
UID:78ea7a6b-89e0-48db-4f84-08de9f183112
DTSTAMP:20260420T200538Z
DTSTART:20260917T205900Z
DTEND:20260917T205900Z
TRANSP:TRANSPARENT
STATUS:CONFIRMED
SUMMARY:BKUBTS Tarım ve Orman Bakanlığı Bitki Koruma Ürünleri Bayi ve Toptancılık Yazılı Sınavı 2026-BKUBTS Geç Başvuru Bitiş
END:VEVENT
END:VCALENDAR
