BEGIN:VCALENDAR
VERSION:2.0
PRODID:itakvim.com
METHOD:PUBLISH
UID:79a750b4-dab0-4804-50f6-08de9f183112
X-WR-CALNAME:Britanya Grand Prix'si Sprint
X-ITAKVIM-LANGUAGE:tr
X-ITAKVIM-REGION:TR
CALSCALE:GREGORIAN
BEGIN:VEVENT
UID:79a750b4-dab0-4804-50f6-08de9f183112
DTSTAMP:20260420T200718Z
DTSTART:20260704T110000Z
DTEND:20260704T110000Z
TRANSP:TRANSPARENT
STATUS:CONFIRMED
SUMMARY:Britanya Grand Prix'si Sprint
END:VEVENT
END:VCALENDAR
