BEGIN:VCALENDAR
VERSION:2.0
PRODID:itakvim.com
METHOD:PUBLISH
UID:7a4c23c3-79a3-448b-517e-08de9f183112
X-WR-CALNAME:Fakülteler Tarafından Bahar Yarıyılı Mezunlarının Kararlarının Bildirilmesi
X-ITAKVIM-LANGUAGE:tr
X-ITAKVIM-REGION:TR
CALSCALE:GREGORIAN
BEGIN:VEVENT
UID:7a4c23c3-79a3-448b-517e-08de9f183112
DTSTAMP:20260420T200724Z
DTSTART:20260630T210000Z
DTEND:20260630T210000Z
TRANSP:TRANSPARENT
STATUS:CONFIRMED
SUMMARY:Fakülteler Tarafından Bahar Yarıyılı Mezunlarının Kararlarının Bildirilmesi
END:VEVENT
END:VCALENDAR
