BEGIN:VCALENDAR
VERSION:2.0
PRODID:itakvim.com
METHOD:PUBLISH
UID:7a78e81c-2ca2-45c7-50f0-08de9f183112
X-WR-CALNAME:Avusturya Grand Prix'si İkinci antrenman
X-ITAKVIM-LANGUAGE:tr
X-ITAKVIM-REGION:TR
CALSCALE:GREGORIAN
BEGIN:VEVENT
UID:7a78e81c-2ca2-45c7-50f0-08de9f183112
DTSTAMP:20260420T200718Z
DTSTART:20260626T150000Z
DTEND:20260626T150000Z
TRANSP:TRANSPARENT
STATUS:CONFIRMED
SUMMARY:Avusturya Grand Prix'si İkinci antrenman
END:VEVENT
END:VCALENDAR
