BEGIN:VCALENDAR
VERSION:2.0
PRODID:itakvim.com
METHOD:PUBLISH
UID:7b61e795-1531-4b0a-4ee5-08de9f183112
X-WR-CALNAME:KPSS Kamu Personel Seçme Sınavı 2026-KPSS Lisans (Genel Yetenek-Genel Kültür) Sınav
X-ITAKVIM-LANGUAGE:tr
X-ITAKVIM-REGION:TR
CALSCALE:GREGORIAN
BEGIN:VEVENT
UID:7b61e795-1531-4b0a-4ee5-08de9f183112
DTSTAMP:20260420T200538Z
DTSTART:20260905T210000Z
DTEND:20260905T210000Z
TRANSP:TRANSPARENT
STATUS:CONFIRMED
SUMMARY:KPSS Kamu Personel Seçme Sınavı 2026-KPSS Lisans (Genel Yetenek-Genel Kültür) Sınav
END:VEVENT
END:VCALENDAR
