BEGIN:VCALENDAR
VERSION:2.0
PRODID:itakvim.com
METHOD:PUBLISH
UID:7c4e7ad3-2887-455a-4eab-08de9f183112
X-WR-CALNAME:e-YDTS Elektronik Yabancı Dil Olarak Türkçe Sınavı (e-YDTS) Sınav
X-ITAKVIM-LANGUAGE:tr
X-ITAKVIM-REGION:TR
CALSCALE:GREGORIAN
BEGIN:VEVENT
UID:7c4e7ad3-2887-455a-4eab-08de9f183112
DTSTAMP:20260420T200538Z
DTSTART:20260509T104500Z
DTEND:20260509T104500Z
TRANSP:TRANSPARENT
STATUS:CONFIRMED
SUMMARY:e-YDTS Elektronik Yabancı Dil Olarak Türkçe Sınavı (e-YDTS) Sınav
END:VEVENT
END:VCALENDAR
