BEGIN:VCALENDAR
VERSION:2.0
PRODID:itakvim.com
METHOD:PUBLISH
UID:7c707147-5c65-4868-5260-08de9f183112
X-WR-CALNAME:Yozgat 16.Tarım, Gıda Ve Hayvancılık Fuarı
X-ITAKVIM-LANGUAGE:tr
X-ITAKVIM-REGION:TR
CALSCALE:GREGORIAN
BEGIN:VEVENT
UID:7c707147-5c65-4868-5260-08de9f183112
DTSTAMP:20260420T200816Z
DTSTART:20260827T060000Z
DTEND:20260830T150000Z
TRANSP:TRANSPARENT
STATUS:CONFIRMED
SUMMARY:Yozgat 16.Tarım, Gıda Ve Hayvancılık Fuarı
DESCRIPTION:Kobi Fuarcılık Tanıtım Ve Organizasyon Limited Şirketi tarafından düzenlenen tarım, gıda ve hayvancılık konulu fuarda görüşmek üzere: 

Web:www.kobifuarcilik.com
E-Posta: kobifuarcilik@gmail.com
LOCATION:Yozgat Kapalı Fuar Alanı
END:VEVENT
END:VCALENDAR
