BEGIN:VCALENDAR
VERSION:2.0
PRODID:itakvim.com
METHOD:PUBLISH
UID:7d9a09a3-6255-498e-51c3-08de9f183112
X-WR-CALNAME:Yaz Öğretimi Ders Programlarının İlanı
X-ITAKVIM-LANGUAGE:tr
X-ITAKVIM-REGION:TR
CALSCALE:GREGORIAN
BEGIN:VEVENT
UID:7d9a09a3-6255-498e-51c3-08de9f183112
DTSTAMP:20260420T200724Z
DTSTART:20260521T210000Z
DTEND:20260521T210000Z
TRANSP:TRANSPARENT
STATUS:CONFIRMED
SUMMARY:Yaz Öğretimi Ders Programlarının İlanı
END:VEVENT
END:VCALENDAR
