BEGIN:VCALENDAR
VERSION:2.0
PRODID:itakvim.com
METHOD:PUBLISH
UID:7dc2f2bd-df36-48e9-51bf-08de9f183112
X-WR-CALNAME:3. Dönem Derslerinin Başlaması
X-ITAKVIM-LANGUAGE:tr
X-ITAKVIM-REGION:TR
CALSCALE:GREGORIAN
BEGIN:VEVENT
UID:7dc2f2bd-df36-48e9-51bf-08de9f183112
DTSTAMP:20260420T200724Z
DTSTART:20260426T210000Z
DTEND:20260426T210000Z
TRANSP:TRANSPARENT
STATUS:CONFIRMED
SUMMARY:3. Dönem Derslerinin Başlaması
END:VEVENT
END:VCALENDAR
