BEGIN:VCALENDAR
VERSION:2.0
PRODID:itakvim.com
METHOD:PUBLISH
UID:7df6d335-c39e-4840-50e2-08de9f183112
X-WR-CALNAME:Kanada Grand Prix'si Sprint
X-ITAKVIM-LANGUAGE:tr
X-ITAKVIM-REGION:TR
CALSCALE:GREGORIAN
BEGIN:VEVENT
UID:7df6d335-c39e-4840-50e2-08de9f183112
DTSTAMP:20260420T200718Z
DTSTART:20260523T160000Z
DTEND:20260523T160000Z
TRANSP:TRANSPARENT
STATUS:CONFIRMED
SUMMARY:Kanada Grand Prix'si Sprint
END:VEVENT
END:VCALENDAR
