BEGIN:VCALENDAR
VERSION:2.0
PRODID:itakvim.com
METHOD:PUBLISH
UID:7e6f4b9b-2b9f-455f-528e-08de9f183112
X-WR-CALNAME:Beauty Eurasia 2026 - 21. Uluslararası Kozmetik, Güzellik, Kuaför, Ambalaj, Hammadde, Hijyen Ve Private Label Fuarı
X-ITAKVIM-LANGUAGE:tr
X-ITAKVIM-REGION:TR
CALSCALE:GREGORIAN
BEGIN:VEVENT
UID:7e6f4b9b-2b9f-455f-528e-08de9f183112
DTSTAMP:20260420T200816Z
DTSTART:20260902T060000Z
DTEND:20260904T150000Z
TRANSP:TRANSPARENT
STATUS:CONFIRMED
SUMMARY:Beauty Eurasia 2026 - 21. Uluslararası Kozmetik, Güzellik, Kuaför, Ambalaj, Hammadde, Hijyen Ve Private Label Fuarı
DESCRIPTION:1) Ica Beauty Fuarcılık Anonim Şirketi 2) Ica Fuarcılık A.Ş. tarafından düzenlenen kozmetik, güzellik, parfüm, kuaför, temizlik, ambalaj & paketleme ve hammadde konulu fuarda görüşmek üzere: 

Web:www.beautyeurasia.com
E-Posta: info.turkey@icaevents.com.tr
LOCATION:İstanbul Fuar Merkezi
END:VEVENT
END:VCALENDAR
