BEGIN:VCALENDAR
VERSION:2.0
PRODID:itakvim.com
METHOD:PUBLISH
UID:7f161574-8d14-4c92-50f4-08de9f183112
X-WR-CALNAME:Britanya Grand Prix'si Birinci antrenman
X-ITAKVIM-LANGUAGE:tr
X-ITAKVIM-REGION:TR
CALSCALE:GREGORIAN
BEGIN:VEVENT
UID:7f161574-8d14-4c92-50f4-08de9f183112
DTSTAMP:20260420T200718Z
DTSTART:20260703T113000Z
DTEND:20260703T113000Z
TRANSP:TRANSPARENT
STATUS:CONFIRMED
SUMMARY:Britanya Grand Prix'si Birinci antrenman
END:VEVENT
END:VCALENDAR
