BEGIN:VCALENDAR
VERSION:2.0
PRODID:itakvim.com
METHOD:PUBLISH
UID:7f5f7986-a028-4591-cc70-08de9d98d356
X-WR-CALNAME:Çingene Boksör
X-ITAKVIM-LANGUAGE:tr
X-ITAKVIM-REGION:TR
CALSCALE:GREGORIAN
BEGIN:VEVENT
UID:7f5f7986-a028-4591-cc70-08de9d98d356
DTSTAMP:20260418T222121Z
DTSTART:20260425T120000Z
DTEND:20260425T120000Z
TRANSP:TRANSPARENT
STATUS:CONFIRMED
SUMMARY:Çingene Boksör
LOCATION:Müze Gazhane Meydan Sahne
END:VEVENT
END:VCALENDAR
