BEGIN:VCALENDAR
VERSION:2.0
PRODID:itakvim.com
METHOD:PUBLISH
UID:801b94f9-f238-4286-51cf-08de9f183112
X-WR-CALNAME:Fakülteler Tarafından Lisans Yaz Öğretimi Mezunlarının Kurul Kararlarının Bildirilmesi
X-ITAKVIM-LANGUAGE:tr
X-ITAKVIM-REGION:TR
CALSCALE:GREGORIAN
BEGIN:VEVENT
UID:801b94f9-f238-4286-51cf-08de9f183112
DTSTAMP:20260420T200724Z
DTSTART:20260827T210000Z
DTEND:20260827T210000Z
TRANSP:TRANSPARENT
STATUS:CONFIRMED
SUMMARY:Fakülteler Tarafından Lisans Yaz Öğretimi Mezunlarının Kurul Kararlarının Bildirilmesi
END:VEVENT
END:VCALENDAR
