BEGIN:VCALENDAR
VERSION:2.0
PRODID:itakvim.com
METHOD:PUBLISH
UID:8081dd93-a6cd-46b0-529a-08de9f183112
X-WR-CALNAME:6. Uluslararası Mobısad Imex Fuarı
X-ITAKVIM-LANGUAGE:tr
X-ITAKVIM-REGION:TR
CALSCALE:GREGORIAN
BEGIN:VEVENT
UID:8081dd93-a6cd-46b0-529a-08de9f183112
DTSTAMP:20260420T200816Z
DTSTART:20261007T060000Z
DTEND:20261010T150000Z
TRANSP:TRANSPARENT
STATUS:CONFIRMED
SUMMARY:6. Uluslararası Mobısad Imex Fuarı
DESCRIPTION:Marmara Tanıtım Fuarcılık Organizasyon Reklam Ve Ticaret Anonim Şirketi tarafından düzenlenen mobil İletişim tüketici elektroniği ve yeni teknolojiler fuarı konulu fuarda görüşmek üzere: 

Web:www.marmarafuar.com.tr
E-Posta: marmara@marmarafuar.com.tr
LOCATION:İstanbul Fuar Merkezi
END:VEVENT
END:VCALENDAR
