BEGIN:VCALENDAR
VERSION:2.0
PRODID:itakvim.com
METHOD:PUBLISH
UID:80cdc77b-b190-4761-4f65-08de9f183112
X-WR-CALNAME:e-TEP Elektronik İngilizce Yeterlik Sınavı/Electronic-Test of English Proficiency (e-TEP 2026/2 İngilizce) ******* Sonuç
X-ITAKVIM-LANGUAGE:tr
X-ITAKVIM-REGION:TR
CALSCALE:GREGORIAN
BEGIN:VEVENT
UID:80cdc77b-b190-4761-4f65-08de9f183112
DTSTAMP:20260420T200538Z
DTSTART:20260521T210000Z
DTEND:20260521T210000Z
TRANSP:TRANSPARENT
STATUS:CONFIRMED
SUMMARY:e-TEP Elektronik İngilizce Yeterlik Sınavı/Electronic-Test of English Proficiency (e-TEP 2026/2 İngilizce) ******* Sonuç
END:VEVENT
END:VCALENDAR
