BEGIN:VCALENDAR
VERSION:2.0
PRODID:itakvim.com
METHOD:PUBLISH
UID:81476778-bd68-4dd7-4f82-08de9f183112
X-WR-CALNAME:BKUBTS Tarım ve Orman Bakanlığı Bitki Koruma Ürünleri Bayi ve Toptancılık Yazılı Sınavı 2026-BKUBTS Başvuru Bitiş
X-ITAKVIM-LANGUAGE:tr
X-ITAKVIM-REGION:TR
CALSCALE:GREGORIAN
BEGIN:VEVENT
UID:81476778-bd68-4dd7-4f82-08de9f183112
DTSTAMP:20260420T200538Z
DTSTART:20260909T210000Z
DTEND:20260909T210000Z
TRANSP:TRANSPARENT
STATUS:CONFIRMED
SUMMARY:BKUBTS Tarım ve Orman Bakanlığı Bitki Koruma Ürünleri Bayi ve Toptancılık Yazılı Sınavı 2026-BKUBTS Başvuru Bitiş
END:VEVENT
END:VCALENDAR
