BEGIN:VCALENDAR
VERSION:2.0
PRODID:itakvim.com
METHOD:PUBLISH
UID:8249b88d-0976-4956-50df-08de9f183112
X-WR-CALNAME:Miami Grand Prix'si Yarış
X-ITAKVIM-LANGUAGE:tr
X-ITAKVIM-REGION:TR
CALSCALE:GREGORIAN
BEGIN:VEVENT
UID:8249b88d-0976-4956-50df-08de9f183112
DTSTAMP:20260420T200718Z
DTSTART:20260503T200000Z
DTEND:20260503T200000Z
TRANSP:TRANSPARENT
STATUS:CONFIRMED
SUMMARY:Miami Grand Prix'si Yarış
END:VEVENT
END:VCALENDAR
