BEGIN:VCALENDAR
VERSION:2.0
PRODID:itakvim.com
METHOD:PUBLISH
UID:82ea2675-3693-4f55-4f99-08de9f183112
X-WR-CALNAME:DUS Diş Hekimliğinde Uzmanlık Eğitimi Giriş Sınavı 2026-DUS 2.Dönem Başvuru Başlangıç
X-ITAKVIM-LANGUAGE:tr
X-ITAKVIM-REGION:TR
CALSCALE:GREGORIAN
BEGIN:VEVENT
UID:82ea2675-3693-4f55-4f99-08de9f183112
DTSTAMP:20260420T200538Z
DTSTART:20260915T210000Z
DTEND:20260915T210000Z
TRANSP:TRANSPARENT
STATUS:CONFIRMED
SUMMARY:DUS Diş Hekimliğinde Uzmanlık Eğitimi Giriş Sınavı 2026-DUS 2.Dönem Başvuru Başlangıç
END:VEVENT
END:VCALENDAR
