BEGIN:VCALENDAR
VERSION:2.0
PRODID:itakvim.com
METHOD:PUBLISH
UID:83154af2-7082-409c-4ead-08de9f183112
X-WR-CALNAME:e-YDTS Elektronik Yabancı Dil Olarak Türkçe Sınavı (e-YDTS) Başvuru Bitiş
X-ITAKVIM-LANGUAGE:tr
X-ITAKVIM-REGION:TR
CALSCALE:GREGORIAN
BEGIN:VEVENT
UID:83154af2-7082-409c-4ead-08de9f183112
DTSTAMP:20260420T200538Z
DTSTART:20260428T205900Z
DTEND:20260428T205900Z
TRANSP:TRANSPARENT
STATUS:CONFIRMED
SUMMARY:e-YDTS Elektronik Yabancı Dil Olarak Türkçe Sınavı (e-YDTS) Başvuru Bitiş
END:VEVENT
END:VCALENDAR
