BEGIN:VCALENDAR
VERSION:2.0
PRODID:itakvim.com
METHOD:PUBLISH
UID:84d40ed5-bad8-4af7-d5f7-08de9fecec0c
X-WR-CALNAME:e-YDS Elektronik Yabancı Dil Sınavı (e-YDS 2026/4 İngilizce) *** Sonuç
X-ITAKVIM-LANGUAGE:tr
X-ITAKVIM-REGION:TR
CALSCALE:GREGORIAN
BEGIN:VEVENT
UID:84d40ed5-bad8-4af7-d5f7-08de9fecec0c
DTSTAMP:20260421T212824Z
DTSTART:20260501T210000Z
DTEND:20260501T210000Z
TRANSP:TRANSPARENT
STATUS:CONFIRMED
SUMMARY:e-YDS Elektronik Yabancı Dil Sınavı (e-YDS 2026/4 İngilizce) *** Sonuç
END:VEVENT
END:VCALENDAR
